Package: adductomicsR Version: 1.25.0 Command: /home/biocbuild/R/R/bin/R CMD build --keep-empty-dirs --no-resave-data adductomicsR StartedAt: 2025-10-02 21:40:48 -0000 (Thu, 02 Oct 2025) EndedAt: 2025-10-02 22:14:40 -0000 (Thu, 02 Oct 2025) EllapsedTime: 2031.6 seconds RetCode: 0 Status: OK PackageFile: adductomicsR_1.25.0.tar.gz PackageFileSize: 752.6 KiB