Package: acde Version: 1.39.0 Command: /Library/Frameworks/R.framework/Resources/bin/R CMD check --install=check:acde.install-out.txt --library=/Library/Frameworks/R.framework/Resources/library --no-vignettes --timings acde_1.39.0.tar.gz StartedAt: 2025-10-24 19:24:34 -0400 (Fri, 24 Oct 2025) EndedAt: 2025-10-24 19:26:04 -0400 (Fri, 24 Oct 2025) EllapsedTime: 89.9 seconds RetCode: 0 Status: OK CheckDir: acde.Rcheck Warnings: 0