Package: abseqR Version: 1.27.0 Command: /Library/Frameworks/R.framework/Resources/bin/R CMD INSTALL abseqR StartedAt: 2025-10-17 15:13:06 -0400 (Fri, 17 Oct 2025) EndedAt: 2025-10-17 15:13:41 -0400 (Fri, 17 Oct 2025) EllapsedTime: 34.7 seconds RetCode: 0 Status: OK