Package: abseqR Version: 1.27.0 Command: /Library/Frameworks/R.framework/Resources/bin/R CMD build --keep-empty-dirs --no-resave-data abseqR StartedAt: 2025-10-16 16:25:22 -0400 (Thu, 16 Oct 2025) EndedAt: 2025-10-16 16:30:23 -0400 (Thu, 16 Oct 2025) EllapsedTime: 300.8 seconds RetCode: 0 Status: OK PackageFile: abseqR_1.27.0.tar.gz PackageFileSize: 2.903 MiB