Package: aCGH Version: 1.87.0 Command: /Library/Frameworks/R.framework/Resources/bin/R CMD build --keep-empty-dirs --no-resave-data aCGH StartedAt: 2025-10-20 15:35:26 -0400 (Mon, 20 Oct 2025) EndedAt: 2025-10-20 15:35:39 -0400 (Mon, 20 Oct 2025) EllapsedTime: 12.2 seconds RetCode: 0 Status: OK PackageFile: aCGH_1.87.0.tar.gz PackageFileSize: 2.219 MiB