Package: a4Reporting Version: 1.57.0 Command: /home/biocbuild/bbs-3.22-bioc/R/bin/R CMD INSTALL a4Reporting StartedAt: 2025-10-20 15:01:25 -0400 (Mon, 20 Oct 2025) EndedAt: 2025-10-20 15:01:29 -0400 (Mon, 20 Oct 2025) EllapsedTime: 3.6 seconds RetCode: 0 Status: OK