Package: a4Reporting Version: 1.57.0 Command: /Library/Frameworks/R.framework/Resources/bin/R CMD INSTALL a4Reporting StartedAt: 2025-10-19 15:01:24 -0400 (Sun, 19 Oct 2025) EndedAt: 2025-10-19 15:01:25 -0400 (Sun, 19 Oct 2025) EllapsedTime: 1.4 seconds RetCode: 0 Status: OK