Package: a4Reporting Version: 1.57.0 Command: /Library/Frameworks/R.framework/Resources/bin/R CMD build --keep-empty-dirs --no-resave-data a4Reporting StartedAt: 2025-10-19 15:35:19 -0400 (Sun, 19 Oct 2025) EndedAt: 2025-10-19 15:35:22 -0400 (Sun, 19 Oct 2025) EllapsedTime: 3.1 seconds RetCode: 0 Status: OK PackageFile: a4Reporting_1.57.0.tar.gz PackageFileSize: 292.9 KiB