Package: a4Preproc Version: 1.57.0 Command: /Library/Frameworks/R.framework/Resources/bin/R CMD build --keep-empty-dirs --no-resave-data a4Preproc StartedAt: 2025-10-02 15:35:25 -0400 (Thu, 02 Oct 2025) EndedAt: 2025-10-02 15:35:30 -0400 (Thu, 02 Oct 2025) EllapsedTime: 5.1 seconds RetCode: 0 Status: OK PackageFile: a4Preproc_1.57.0.tar.gz PackageFileSize: 288.5 KiB