Package: a4Core Version: 1.57.0 Command: /home/biocbuild/R/R/bin/R CMD INSTALL a4Core StartedAt: 2025-10-16 21:24:39 -0000 (Thu, 16 Oct 2025) EndedAt: 2025-10-16 21:24:55 -0000 (Thu, 16 Oct 2025) EllapsedTime: 16.5 seconds RetCode: 0 Status: OK