Package: a4 Version: 1.57.0 Command: /home/biocbuild/R/R/bin/R CMD INSTALL a4 StartedAt: 2025-10-16 22:14:40 -0000 (Thu, 16 Oct 2025) EndedAt: 2025-10-16 22:15:04 -0000 (Thu, 16 Oct 2025) EllapsedTime: 24.3 seconds RetCode: 0 Status: OK