Package: a4 Version: 1.57.0 Command: F:\biocbuild\bbs-3.22-bioc\R\bin\R.exe CMD INSTALL a4 StartedAt: 2025-08-14 16:45:29 -0400 (Thu, 14 Aug 2025) EndedAt: 2025-08-14 16:45:53 -0400 (Thu, 14 Aug 2025) EllapsedTime: 24.7 seconds RetCode: 0 Status: OK