Package: a4 Version: 1.57.0 Command: rm -rf a4.buildbin-libdir && mkdir a4.buildbin-libdir && F:\biocbuild\bbs-3.22-bioc\R\bin\R.exe CMD INSTALL --build --library=a4.buildbin-libdir a4_1.57.0.tar.gz StartedAt: 2025-08-15 09:41:08 -0400 (Fri, 15 Aug 2025) EndedAt: 2025-08-15 09:41:36 -0400 (Fri, 15 Aug 2025) EllapsedTime: 27.6 seconds RetCode: 0 Status: OK PackageFile: a4_1.57.0.zip PackageFileSize: 1023 KiB