Package: a4 Version: 1.57.0 Command: /home/biocbuild/bbs-3.22-bioc/R/bin/R CMD INSTALL a4 StartedAt: 2025-10-19 15:51:29 -0400 (Sun, 19 Oct 2025) EndedAt: 2025-10-19 15:51:48 -0400 (Sun, 19 Oct 2025) EllapsedTime: 18.7 seconds RetCode: 0 Status: OK