Package: a4 Version: 1.57.0 Command: /home/biocbuild/bbs-3.22-bioc/R/bin/R CMD check --install=check:a4.install-out.txt --library=/home/biocbuild/bbs-3.22-bioc/R/site-library --timings a4_1.57.0.tar.gz StartedAt: 2025-10-20 20:50:08 -0400 (Mon, 20 Oct 2025) EndedAt: 2025-10-20 20:53:05 -0400 (Mon, 20 Oct 2025) EllapsedTime: 177.2 seconds RetCode: 0 Status: OK CheckDir: a4.Rcheck Warnings: 0