Package: YAPSA Version: 1.35.1 Command: /home/biocbuild/R/R/bin/R CMD check --install=check:YAPSA.install-out.txt --library=/home/biocbuild/R/R/site-library --no-vignettes --timings YAPSA_1.35.1.tar.gz StartedAt: 2025-10-03 12:54:10 -0000 (Fri, 03 Oct 2025) EndedAt: 2025-10-03 13:04:40 -0000 (Fri, 03 Oct 2025) EllapsedTime: 630.2 seconds RetCode: 0 Status: OK CheckDir: YAPSA.Rcheck Warnings: 0