Package: YAPSA Version: 1.35.1 Command: /home/biocbuild/R/R/bin/R CMD build --keep-empty-dirs --no-resave-data YAPSA StartedAt: 2025-10-03 04:15:29 -0000 (Fri, 03 Oct 2025) EndedAt: 2025-10-03 04:20:51 -0000 (Fri, 03 Oct 2025) EllapsedTime: 321.3 seconds RetCode: 0 Status: OK PackageFile: YAPSA_1.35.1.tar.gz PackageFileSize: 3.1 MiB