Package: Xeva Version: 1.26.0 Command: /home/biocbuild/R/R/bin/R CMD build --keep-empty-dirs --no-resave-data Xeva StartedAt: 2025-11-18 06:11:51 -0000 (Tue, 18 Nov 2025) EndedAt: 2025-11-18 06:13:13 -0000 (Tue, 18 Nov 2025) EllapsedTime: 82.1 seconds RetCode: 0 Status: OK PackageFile: Xeva_1.26.0.tar.gz PackageFileSize: 1.566 MiB