Package: Xeva Version: 1.25.0 Command: F:\biocbuild\bbs-3.22-bioc\R\bin\R.exe CMD INSTALL Xeva StartedAt: 2025-08-14 16:31:33 -0400 (Thu, 14 Aug 2025) EndedAt: 2025-08-14 16:32:38 -0400 (Thu, 14 Aug 2025) EllapsedTime: 65.1 seconds RetCode: 0 Status: OK