Package: Xeva Version: 1.25.0 Command: F:\biocbuild\bbs-3.22-bioc\R\bin\R.exe CMD check --no-multiarch --install=check:Xeva.install-out.txt --library=F:\biocbuild\bbs-3.22-bioc\R\library --no-vignettes --timings Xeva_1.25.0.tar.gz StartedAt: 2025-08-15 09:15:49 -0400 (Fri, 15 Aug 2025) EndedAt: 2025-08-15 09:21:06 -0400 (Fri, 15 Aug 2025) EllapsedTime: 316.1 seconds RetCode: 0 Status: OK CheckDir: Xeva.Rcheck Warnings: 0