Package: Xeva Version: 1.26.0 Command: /Library/Frameworks/R.framework/Resources/bin/R CMD build --keep-empty-dirs --no-resave-data Xeva StartedAt: 2025-11-10 18:10:19 -0500 (Mon, 10 Nov 2025) EndedAt: 2025-11-10 18:10:47 -0500 (Mon, 10 Nov 2025) EllapsedTime: 27.3 seconds RetCode: 0 Status: OK PackageFile: Xeva_1.26.0.tar.gz PackageFileSize: 1.574 MiB