Package: Xeva Version: 1.26.0 Command: /Library/Frameworks/R.framework/Resources/bin/R CMD build --keep-empty-dirs --no-resave-data Xeva StartedAt: 2025-11-18 02:17:40 -0500 (Tue, 18 Nov 2025) EndedAt: 2025-11-18 02:18:15 -0500 (Tue, 18 Nov 2025) EllapsedTime: 35.3 seconds RetCode: 0 Status: OK PackageFile: Xeva_1.26.0.tar.gz PackageFileSize: 1.574 MiB