Package: XeniumIO Version: 1.1.3 Command: /Library/Frameworks/R.framework/Resources/bin/R CMD INSTALL XeniumIO StartedAt: 2025-10-19 15:15:25 -0400 (Sun, 19 Oct 2025) EndedAt: 2025-10-19 15:15:35 -0400 (Sun, 19 Oct 2025) EllapsedTime: 10.3 seconds RetCode: 0 Status: OK