Package: XINA Version: 1.27.0 Command: /home/biocbuild/bbs-3.22-bioc/R/bin/R CMD INSTALL XINA StartedAt: 2025-10-20 15:10:12 -0400 (Mon, 20 Oct 2025) EndedAt: 2025-10-20 15:10:27 -0400 (Mon, 20 Oct 2025) EllapsedTime: 15.4 seconds RetCode: 0 Status: OK