Package: XINA Version: 1.27.0 Command: /Library/Frameworks/R.framework/Resources/bin/R CMD build --keep-empty-dirs --no-resave-data XINA StartedAt: 2025-10-19 18:05:41 -0400 (Sun, 19 Oct 2025) EndedAt: 2025-10-19 18:05:55 -0400 (Sun, 19 Oct 2025) EllapsedTime: 13.1 seconds RetCode: 0 Status: OK PackageFile: XINA_1.27.0.tar.gz PackageFileSize: 2.859 MiB