Package: XDE Version: 2.55.0 Command: /home/biocbuild/bbs-3.22-bioc/R/bin/R CMD check --install=check:XDE.install-out.txt --library=/home/biocbuild/bbs-3.22-bioc/R/site-library --timings XDE_2.55.0.tar.gz StartedAt: 2025-10-24 05:14:31 -0400 (Fri, 24 Oct 2025) EndedAt: 2025-10-24 05:17:32 -0400 (Fri, 24 Oct 2025) EllapsedTime: 181.2 seconds RetCode: 0 Status: WARNINGS CheckDir: XDE.Rcheck Warnings: 1