Package: XAItest Version: 1.1.5 Command: /home/biocbuild/R/R/bin/R CMD INSTALL XAItest StartedAt: 2025-10-20 20:35:27 -0000 (Mon, 20 Oct 2025) EndedAt: 2025-10-20 20:35:31 -0000 (Mon, 20 Oct 2025) EllapsedTime: 4.0 seconds RetCode: 0 Status: OK