Package: XAItest Version: 1.1.5 Command: /home/biocbuild/R/R/bin/R CMD build --keep-empty-dirs --no-resave-data XAItest StartedAt: 2025-10-21 04:06:08 -0000 (Tue, 21 Oct 2025) EndedAt: 2025-10-21 04:08:33 -0000 (Tue, 21 Oct 2025) EllapsedTime: 145.1 seconds RetCode: 0 Status: OK PackageFile: XAItest_1.1.5.tar.gz PackageFileSize: 1.194 MiB