Package: XAItest Version: 1.1.1 Command: F:\biocbuild\bbs-3.22-bioc\R\bin\R.exe CMD INSTALL XAItest StartedAt: 2025-08-14 16:02:36 -0400 (Thu, 14 Aug 2025) EndedAt: 2025-08-14 16:02:50 -0400 (Thu, 14 Aug 2025) EllapsedTime: 13.9 seconds RetCode: 0 Status: OK