Package: XAItest Version: 1.1.1 Command: F:\biocbuild\bbs-3.22-bioc\R\bin\R.exe CMD check --no-multiarch --install=check:XAItest.install-out.txt --library=F:\biocbuild\bbs-3.22-bioc\R\library --no-vignettes --timings XAItest_1.1.1.tar.gz StartedAt: 2025-08-15 09:13:17 -0400 (Fri, 15 Aug 2025) EndedAt: 2025-08-15 09:15:58 -0400 (Fri, 15 Aug 2025) EllapsedTime: 161.7 seconds RetCode: 0 Status: OK CheckDir: XAItest.Rcheck Warnings: 0