Package: XAItest Version: 1.1.1 Command: chmod a+r XAItest -R && F:\biocbuild\bbs-3.22-bioc\R\bin\R.exe CMD build --keep-empty-dirs --no-resave-data XAItest StartedAt: 2025-08-15 00:01:10 -0400 (Fri, 15 Aug 2025) EndedAt: 2025-08-15 00:03:34 -0400 (Fri, 15 Aug 2025) EllapsedTime: 144.2 seconds RetCode: 0 Status: OK PackageFile: XAItest_1.1.1.tar.gz PackageFileSize: 777.7 KiB