Package: XAItest Version: 1.1.5 Command: /home/biocbuild/bbs-3.22-bioc/R/bin/R CMD INSTALL XAItest StartedAt: 2025-10-19 15:23:24 -0400 (Sun, 19 Oct 2025) EndedAt: 2025-10-19 15:23:27 -0400 (Sun, 19 Oct 2025) EllapsedTime: 2.7 seconds RetCode: 0 Status: OK