Package: XAItest Version: 1.1.5 Command: /home/biocbuild/bbs-3.22-bioc/R/bin/R CMD build --keep-empty-dirs --no-resave-data --md5 XAItest StartedAt: 2025-10-19 20:45:14 -0400 (Sun, 19 Oct 2025) EndedAt: 2025-10-19 20:47:06 -0400 (Sun, 19 Oct 2025) EllapsedTime: 112.1 seconds RetCode: 0 Status: OK PackageFile: XAItest_1.1.5.tar.gz PackageFileSize: 1.324 MiB