Package: XAItest Version: 1.1.5 Command: /Library/Frameworks/R.framework/Resources/bin/R CMD check --install=check:XAItest.install-out.txt --library=/Library/Frameworks/R.framework/Resources/library --no-vignettes --timings XAItest_1.1.5.tar.gz StartedAt: 2025-10-18 02:24:39 -0400 (Sat, 18 Oct 2025) EndedAt: 2025-10-18 02:27:04 -0400 (Sat, 18 Oct 2025) EllapsedTime: 145.4 seconds RetCode: 0 Status: WARNINGS CheckDir: XAItest.Rcheck Warnings: 2