Package: XAItest Version: 1.1.5 Command: rm -rf XAItest.buildbin-libdir && mkdir XAItest.buildbin-libdir && /Users/biocbuild/BBS/utils/build-universal.sh XAItest_1.1.5.tar.gz /Library/Frameworks/R.framework/Resources/bin/R XAItest.buildbin-libdir StartedAt: 2025-10-20 03:40:33 -0400 (Mon, 20 Oct 2025) EndedAt: 2025-10-20 03:40:40 -0400 (Mon, 20 Oct 2025) EllapsedTime: 7.0 seconds RetCode: 0 Status: OK PackageFile: XAItest_1.1.5.tgz PackageFileSize: 1.02 MiB