Package: XAItest Version: 1.1.5 Command: /Library/Frameworks/R.framework/Resources/bin/R CMD build --keep-empty-dirs --no-resave-data XAItest StartedAt: 2025-10-19 18:05:03 -0400 (Sun, 19 Oct 2025) EndedAt: 2025-10-19 18:06:13 -0400 (Sun, 19 Oct 2025) EllapsedTime: 69.8 seconds RetCode: 0 Status: OK PackageFile: XAItest_1.1.5.tar.gz PackageFileSize: 1.388 MiB