Package: VplotR Version: 1.19.1 Command: /home/biocbuild/bbs-3.22-bioc/R/bin/R CMD INSTALL VplotR StartedAt: 2025-10-22 15:50:36 -0400 (Wed, 22 Oct 2025) EndedAt: 2025-10-22 15:51:08 -0400 (Wed, 22 Oct 2025) EllapsedTime: 31.6 seconds RetCode: 0 Status: OK