Package: VplotR Version: 1.19.1 Command: /Library/Frameworks/R.framework/Resources/bin/R CMD INSTALL VplotR StartedAt: 2025-10-22 15:26:24 -0400 (Wed, 22 Oct 2025) EndedAt: 2025-10-22 15:26:36 -0400 (Wed, 22 Oct 2025) EllapsedTime: 12.7 seconds RetCode: 0 Status: OK