Package: VplotR Version: 1.19.1 Command: /Library/Frameworks/R.framework/Resources/bin/R CMD build --keep-empty-dirs --no-resave-data VplotR StartedAt: 2025-10-22 18:08:29 -0400 (Wed, 22 Oct 2025) EndedAt: 2025-10-22 18:09:16 -0400 (Wed, 22 Oct 2025) EllapsedTime: 47.5 seconds RetCode: 0 Status: OK PackageFile: VplotR_1.19.1.tar.gz PackageFileSize: 5.162 MiB