Package: Voyager Version: 1.11.0 Command: F:\biocbuild\bbs-3.22-bioc\R\bin\R.exe CMD INSTALL Voyager StartedAt: 2025-08-14 16:43:49 -0400 (Thu, 14 Aug 2025) EndedAt: 2025-08-14 16:45:13 -0400 (Thu, 14 Aug 2025) EllapsedTime: 83.9 seconds RetCode: 0 Status: OK