Package: Voyager Version: 1.11.0 Command: chmod a+r Voyager -R && F:\biocbuild\bbs-3.22-bioc\R\bin\R.exe CMD build --keep-empty-dirs --no-resave-data Voyager StartedAt: 2025-08-14 23:57:37 -0400 (Thu, 14 Aug 2025) EndedAt: 2025-08-14 23:59:58 -0400 (Thu, 14 Aug 2025) EllapsedTime: 141.2 seconds RetCode: 0 Status: OK PackageFile: Voyager_1.11.0.tar.gz PackageFileSize: 2.801 MiB