Package: Voyager Version: 1.12.0 Command: /Library/Frameworks/R.framework/Resources/bin/R CMD check --install=check:Voyager.install-out.txt --library=/Library/Frameworks/R.framework/Resources/library --no-vignettes --timings Voyager_1.12.0.tar.gz StartedAt: 2025-11-04 01:04:47 -0500 (Tue, 04 Nov 2025) EndedAt: 2025-11-04 01:17:18 -0500 (Tue, 04 Nov 2025) EllapsedTime: 751.1 seconds RetCode: 0 Status: WARNINGS CheckDir: Voyager.Rcheck Warnings: 1