Package: Voyager Version: 1.12.0 Command: rm -rf Voyager.buildbin-libdir && mkdir Voyager.buildbin-libdir && /Users/biocbuild/BBS/utils/build-universal.sh Voyager_1.12.0.tar.gz /Library/Frameworks/R.framework/Resources/bin/R Voyager.buildbin-libdir StartedAt: 2025-11-04 02:10:22 -0500 (Tue, 04 Nov 2025) EndedAt: 2025-11-04 02:11:35 -0500 (Tue, 04 Nov 2025) EllapsedTime: 72.6 seconds RetCode: 0 Status: OK PackageFile: Voyager_1.12.0.tgz PackageFileSize: 4.644 MiB