Package: Voyager Version: 1.12.0 Maintainer: Lambda Moses MaintainerEmail: dl3764 at columbia.edu git_url: https://git.bioconductor.org/packages/Voyager git_branch: RELEASE_3_22 git_last_commit: d689ab8 git_last_commit_date: 2025-10-29 11:19:14 -0500 (Wed, 29 Oct 2025)