Package: ViSEAGO Version: 1.24.0 Command: /home/biocbuild/R/R/bin/R CMD INSTALL ViSEAGO StartedAt: 2025-11-17 21:56:08 -0000 (Mon, 17 Nov 2025) EndedAt: 2025-11-17 21:56:56 -0000 (Mon, 17 Nov 2025) EllapsedTime: 48.1 seconds RetCode: 0 Status: OK