Package: ViSEAGO Version: 1.24.0 Command: /home/biocbuild/R/R/bin/R CMD check --install=check:ViSEAGO.install-out.txt --library=/home/biocbuild/R/R/site-library --no-vignettes --timings ViSEAGO_1.24.0.tar.gz StartedAt: 2025-11-14 16:15:27 -0000 (Fri, 14 Nov 2025) EndedAt: 2025-11-14 16:19:43 -0000 (Fri, 14 Nov 2025) EllapsedTime: 255.3 seconds RetCode: 0 Status: WARNINGS CheckDir: ViSEAGO.Rcheck Warnings: 4