Package: ViSEAGO Version: 1.24.0 Command: /home/biocbuild/R/R/bin/R CMD build --keep-empty-dirs --no-resave-data ViSEAGO StartedAt: 2025-11-21 06:48:10 -0000 (Fri, 21 Nov 2025) EndedAt: 2025-11-21 06:49:31 -0000 (Fri, 21 Nov 2025) EllapsedTime: 81.0 seconds RetCode: 0 Status: OK PackageFile: ViSEAGO_1.24.0.tar.gz PackageFileSize: 8.725 MiB