Package: ViSEAGO Version: 1.24.0 Command: /home/biocbuild/bbs-3.22-bioc/R/bin/R CMD check --install=check:ViSEAGO.install-out.txt --library=/home/biocbuild/bbs-3.22-bioc/R/site-library --timings ViSEAGO_1.24.0.tar.gz StartedAt: 2025-11-18 09:49:12 -0500 (Tue, 18 Nov 2025) EndedAt: 2025-11-18 09:53:53 -0500 (Tue, 18 Nov 2025) EllapsedTime: 281.3 seconds RetCode: 0 Status: WARNINGS CheckDir: ViSEAGO.Rcheck Warnings: 4