Package: ViSEAGO Version: 1.24.0 Command: /Library/Frameworks/R.framework/Resources/bin/R CMD INSTALL ViSEAGO StartedAt: 2025-11-03 15:41:13 -0500 (Mon, 03 Nov 2025) EndedAt: 2025-11-03 15:41:59 -0500 (Mon, 03 Nov 2025) EllapsedTime: 46.7 seconds RetCode: 0 Status: OK