Package: ViSEAGO Version: 1.24.0 Command: /Library/Frameworks/R.framework/Resources/bin/R CMD INSTALL ViSEAGO StartedAt: 2025-11-10 15:21:53 -0500 (Mon, 10 Nov 2025) EndedAt: 2025-11-10 15:22:06 -0500 (Mon, 10 Nov 2025) EllapsedTime: 13.3 seconds RetCode: 0 Status: OK